Workbook
Name _: #REF!
Name _1: '[2]1ST'!#REF!
Name _15A: [3]금액내역서!$D$3:$D$10
Name _1차_94년: #N/A
Name _2차결제일: #N/A
Name _A: #REF!
Name \\O: '[6]1단계'!#REF!
Name \a: [7]약품공급2!#REF!
Name \b: [7]약품공급2!#REF!
Name \c: #N/A
Name \d: '[6]1단계'!#REF!
Name \e: [8]약품설비!#REF!
Name \f: '[6]1단계'!#REF!
Name \g: #REF!
Name \h: '[6]1단계'!#REF!
Name \i: '[6]1단계'!#REF!
Name \j: [8]약품설비!#REF!
Name \k: [7]약품공급2!#REF!
Name \l: [7]약품공급2!#REF!
Name \m: '[6]1단계'!#REF!
Name \n: [8]약품설비!#REF!
Name \o: '[6]1단계'!#REF!
Name \p: '[6]1단계'!#REF!
Name \q: '[6]1단계'!#REF!
Name \r: #N/A
Name \s: '[6]1단계'!#REF!
Name \u: [8]약품설비!#REF!
Name \v: '[6]1단계'!#REF!
Name \w: '[6]1단계'!#REF!
Name \x: '[6]1단계'!#REF!
Name \y: [8]약품설비!#REF!
Name \z: [7]약품공급2!#REF!
Name _1_3_0Crite: #REF!
Name _2_3_0Criteria: #REF!
Name a: [38]노임!$A$1:$B$65536
Name asdfasdf: #N/A
Name BringUserToAboutSheet: [39]!BringUserToAboutSheet
Name BringUserToCode: [39]!BringUserToCode
Name code: #REF!
Name database2: #REF!
Name EJ: [40]소비자가!$I$46:$J$1593
Name fact: #REF!
Name First_Rec: '[17]Customer Databas'!#REF!
Name _3G_0Extr: #REF!
Name _4G_0Extract: #REF!
Name HH: [42]정부노임단가!$A$5:$F$215
Name intervest공정표: #REF!
Name ISL공정표: [39]!BringUserToCode
Name ISO_정렬: [25]!ISO_정렬
Name JH: [44]정부노임단가!$A$5:$F$215
Name JJ: [45]정부노임단가!$A$5:$F$215
Name KK: [44]정부노임단가!$A$5:$F$215
Name LLLL: #REF!
Name NAME: #N/A
Name NI: [46]노임!$A$1:$B$65536
Name NOIM: [46]노임!$A$1:$B$17
Name p: #REF!
Name POR11C45R141C45RTSKS15C5LRTHR5C: [47]표지!#REF!
Name POR16C16R589C41RTSKS15C6LRTHR8C: [47]표지!#REF!
Name POR3C1R50C13RTSKS15C5LRTHDLRTMT: [47]표지!#REF!

Sheet 원가내역 총괄
A1: 국토교통 창업지원센터 시설공사 원가 내역
A3: 번호 | B3: 품명 | C3: 규격 | D3: SPEC. | E3: 단위 | F3: 수량 | G3: 재료비 | I3: 노무비 | K3: 합계 | M3: 비고
G4: 단가 | H4: 금액 | I4: 단가 | J4: 금액 | K4: 단가 | L4: 금액
A8: A. | B8: 인테리어공사 | E8: 식 | F8: 1 | H8: ='원가내역 세부사항'!H42 -> 33981000 | J8: ='원가내역 세부사항'!J42 -> 15631000 | L8: ='원가내역 세부사항'!L42 -> 49612000
B12: 직접공사비계 | H12: =SUM(H8:H11) -> 33981000 | J12: =SUM(J8:J11) -> 15631000 | L12: =SUM(L8:L11) -> 49612000
B14: 안전관리비 | C14: 총공사비계 * 0.0% | E14: % | F14: 0 | H14: =H$12*$F14% -> 0 | J14: =J$12*$F14% -> 0 | L14: =H14+J14 -> 0
B15: 산재보험료 | C15: 노무비계 * 0% | D15: 0 | E15: % | F15: 0 | J15: =J$12*$F15% -> 0 | L15: =H15+J15 -> 0
B16: 고용보험료 | C16: 노무비계 * 0% | E16: % | F16: 0 | J16: =J$12*$F16% -> 0 | L16: =H16+J16 -> 0
B17: 국민건강보험료 | C17: 노무비계 * 0% | E17: % | J17: =J$12*$F17% -> 0 | L17: =H17+J17 -> 0
B18: 국민연금보험료 | C18: 노무비계 * 0% | E18: % | J18: =J$12*$F18% -> 0 | L18: =H18+J18 -> 0
B19: 공과잡비 | C19: 총공사비계 *3% | D19: 0.03 | E19: % | F19: 3 | H19: =H$12*$F19% -> 1019430 | J19: =J$12*$F19% -> 468930 | L19: =H19+J19 -> 1488360
B20: 지방경비&야간경비 | C20: 노무비계 * 0% | D20: 0 | E20: % | F20: 0 | H20: =H$12*$F20% -> 0 | J20: =J$12*$F20% -> 0 | L20: =H20+J20 -> 0
B21: 회사이윤 | C21: 총공사비계 *3% | D21: 0.03 | E21: % | F21: 3 | H21: =H$12*$F21% -> 1019430 | J21: =J12*F21% -> 468930 | L21: =H21+J21 -> 1488360
B23: 간접공사비계 | L23: =SUM(L14:L22) -> 2976720
L24: -8720
B25: 공사비계 | L25: =L12+L23+L24 -> 52580000
A27: B. | B27: *. ETC WORK COST
B35: 총공사비계(A) | L35: =SUM(L25:L34) -> 52580000

Sheet 원가내역 세부사항
A1: ='원가내역 총괄'!B6 -> 0
A3: 번호 | B3: 품명 | C3: 규격 | D3: SPEC | E3: 단위 | F3: 수량 | G3: 재료비 | I3: 노무비 | K3: 합계 | M3: 비고
G4: 단가 | H4: 금액 | I4: 단가 | J4: 금액 | K4: 단가 | L4: 금액
A6: ='원가내역 총괄'!A8 -> A. | B6: ='원가내역 총괄'!B8 -> 인테리어공사
A7: 1-1. | B7: 가설공사 | E7: 식 | F7: 1 | H7: =H77 -> 1797500 | J7: =J77 -> 890000 | L7: =L77 -> 2687500
A8: 1-2. | B8: 벽체공사 / 목공사 | E8: 식 | F8: 1 | H8: =H113 -> 6575000 | J8: =J113 -> 5535000 | L8: =L113 -> 12110000
A9: 1-3. | B9: 수장공사 | E9: 식 | F9: 1 | H9: =H149 -> 10390000 | J9: =J149 -> 6178000 | L9: =L149 -> 16568000
A10: 1-4. | B10: 사인공사 | E10: 식 | F10: 1 | H10: =H185 -> 1350000 | J10: =J185 -> 600000 | L10: =L185 -> 1950000
A11: 1-5. | B11: 금속 유리공사 | E11: 식 | F11: 1 | H11: =H222 -> 13426000 | J11: =J222 -> 1543000 | L11: =L222 -> 14969000
A12: 1-6. | B12: 기타공사 / 준공청소 | E12: 식 | F12: 1 | H12: =H259 -> 442500 | J12: =J259 -> 885000 | L12: =L259 -> 1327500
B42: 소 계 | H42: =SUM(H7:H41) -> 33981000 | J42: =SUM(J7:J41) -> 15631000 | L42: =SUM(L7:L41) -> 49612000
A43: =A7 -> 1-1. | B43: =B7 -> 가설공사
A44: * | B44: 가설공사 | H44: =G44*F44 -> 0 | J44: =F44*I44 -> 0 | K44: =G44+I44 -> 0 | L44: =F44*K44 -> 0
B45: 현장정리정돈 | E45: M2 | F45: 295 | G45: 500 | H45: =G45*F45 -> 147500 | I45: 2000 | J45: =F45*I45 -> 590000 | K45: =G45+I45 -> 2500 | L45: =F45*K45 -> 737500 | M45: 면적
B46: 현장보양 | C46: 공사영향부분포함 | E46: 식 | F46: 1 | G46: 150000 | H46: =G46*F46 -> 150000 | I46: 300000 | J46: =F46*I46 -> 300000 | K46: =G46+I46 -> 450000 | L46: =F46*K46 -> 450000 | M46: 면적
B47: 폐자재처리 | C47: 공사후 | D47: 혼합폐기물 | E47: TON | F47: 2 | G47: 500000 | H47: =G47*F47 -> 1000000 | J47: =F47*I47 -> 0 | K47: =G47+I47 -> 500000 | L47: =F47*K47 -> 1000000
F48: 1 | G48: 500000 | H48: =G48*F48 -> 500000 | J48: =F48*I48 -> 0 | K48: =G48+I48 -> 500000 | L48: =F48*K48 -> 500000 | M48: 면적
H49: =G49*F49 -> 0 | J49: =F49*I49 -> 0 | K49: =G49+I49 -> 0 | L49: =F49*K49 -> 0
H50: =G50*F50 -> 0 | J50: =F50*I50 -> 0 | K50: =G50+I50 -> 0 | L50: =F50*K50 -> 0
H51: =G51*F51 -> 0 | J51: =F51*I51 -> 0 | K51: =G51+I51 -> 0 | L51: =F51*K51 -> 0
H52: =G52*F52 -> 0 | J52: =F52*I52 -> 0 | K52: =G52+I52 -> 0 | L52: =F52*K52 -> 0 | M52: 면적
H53: =G53*F53 -> 0 | J53: =F53*I53 -> 0 | K53: =G53+I53 -> 0 | L53: =F53*K53 -> 0 | M53: 면적
H54: =G54*F54 -> 0 | J54: =F54*I54 -> 0 | K54: =G54+I54 -> 0 | L54: =F54*K54 -> 0
H55: =G55*F55 -> 0 | J55: =F55*I55 -> 0 | K55: =G55+I55 -> 0 | L55: =F55*K55 -> 0
H56: =G56*F56 -> 0 | J56: =F56*I56 -> 0 | K56: =G56+I56 -> 0 | L56: =F56*K56 -> 0 | M56: 면적
H57: =G57*F57 -> 0 | J57: =F57*I57 -> 0 | K57: =G57+I57 -> 0 | L57: =F57*K57 -> 0
H58: =G58*F58 -> 0 | J58: =F58*I58 -> 0 | K58: =G58+I58 -> 0 | L58: =F58*K58 -> 0 | M58: 면적
H59: =G59*F59 -> 0 | J59: =F59*I59 -> 0 | K59: =G59+I59 -> 0 | L59: =F59*K59 -> 0 | M59: 면적
H60: =G60*F60 -> 0 | J60: =F60*I60 -> 0 | K60: =G60+I60 -> 0 | L60: =F60*K60 -> 0
H61: =G61*F61 -> 0 | J61: =F61*I61 -> 0 | K61: =G61+I61 -> 0 | L61: =F61*K61 -> 0 | M61: 면적
H62: =G62*F62 -> 0 | J62: =F62*I62 -> 0 | K62: =G62+I62 -> 0 | L62: =F62*K62 -> 0
H63: =G63*F63 -> 0 | J63: =F63*I63 -> 0 | K63: =G63+I63 -> 0 | L63: =F63*K63 -> 0
H64: =G64*F64 -> 0 | J64: =F64*I64 -> 0 | K64: =G64+I64 -> 0 | L64: =F64*K64 -> 0 | M64: 면적
H65: =G65*F65 -> 0 | J65: =F65*I65 -> 0 | K65: =G65+I65 -> 0 | L65: =F65*K65 -> 0 | M65: 면적
H66: =G66*F66 -> 0 | J66: =F66*I66 -> 0 | K66: =G66+I66 -> 0 | L66: =F66*K66 -> 0 | M66: 면적
H67: =G67*F67 -> 0 | J67: =F67*I67 -> 0 | K67: =G67+I67 -> 0 | L67: =F67*K67 -> 0
H68: =G68*F68 -> 0 | J68: =F68*I68 -> 0 | K68: =G68+I68 -> 0 | L68: =F68*K68 -> 0
H69: =G69*F69 -> 0 | J69: =F69*I69 -> 0 | K69: =G69+I69 -> 0 | L69: =F69*K69 -> 0
H70: =G70*F70 -> 0 | J70: =F70*I70 -> 0 | K70: =G70+I70 -> 0 | L70: =F70*K70 -> 0
H71: =G71*F71 -> 0 | J71: =F71*I71 -> 0 | K71: =G71+I71 -> 0 | L71: =F71*K71 -> 0
...
