Workbook
Name _: #REF!
Name _1: '[2]1ST'!#REF!
Name _15A: [3]금액내역서!$D$3:$D$10
Name _1차_94년: #N/A
Name _2차결제일: #N/A
Name _A: #REF!
Name \\O: '[6]1단계'!#REF!
Name \a: [7]약품공급2!#REF!
Name \b: [7]약품공급2!#REF!
Name \c: #N/A
Name \d: '[6]1단계'!#REF!
Name \e: [8]약품설비!#REF!
Name \f: '[6]1단계'!#REF!
Name \g: #REF!
Name \h: '[6]1단계'!#REF!
Name \i: '[6]1단계'!#REF!
Name \j: [8]약품설비!#REF!
Name \k: [7]약품공급2!#REF!
Name \l: [7]약품공급2!#REF!
Name \m: '[6]1단계'!#REF!
Name \n: [8]약품설비!#REF!
Name \o: '[6]1단계'!#REF!
Name \p: '[6]1단계'!#REF!
Name \q: '[6]1단계'!#REF!
Name \r: #N/A
Name \s: '[6]1단계'!#REF!
Name \u: [8]약품설비!#REF!
Name \v: '[6]1단계'!#REF!
Name \w: '[6]1단계'!#REF!
Name \x: '[6]1단계'!#REF!
Name \y: [8]약품설비!#REF!
Name \z: [7]약품공급2!#REF!
Name _1_3_0Crite: #REF!
Name _2_3_0Criteria: #REF!
Name a: [38]노임!$A$1:$B$65536
Name asdfasdf: #N/A
Name BringUserToAboutSheet: [39]!BringUserToAboutSheet
Name BringUserToCode: [39]!BringUserToCode
Name code: #REF!
Name database2: #REF!
Name EJ: [40]소비자가!$I$46:$J$1593
Name fact: #REF!
Name First_Rec: '[17]Customer Databas'!#REF!
Name _3G_0Extr: #REF!
Name _4G_0Extract: #REF!
Name HH: [42]정부노임단가!$A$5:$F$215
Name intervest공정표: #REF!
Name ISL공정표: [39]!BringUserToCode
Name ISO_정렬: [25]!ISO_정렬
Name JH: [44]정부노임단가!$A$5:$F$215
Name JJ: [45]정부노임단가!$A$5:$F$215
Name KK: [44]정부노임단가!$A$5:$F$215
Name LLLL: #REF!
Name NAME: #N/A
Name NI: [46]노임!$A$1:$B$65536
Name NOIM: [46]노임!$A$1:$B$17
Name p: #REF!
Name POR11C45R141C45RTSKS15C5LRTHR5C: [47]표지!#REF!
Name POR16C16R589C41RTSKS15C6LRTHR8C: [47]표지!#REF!
Name POR3C1R50C13RTSKS15C5LRTHDLRTMT: [47]표지!#REF!

Sheet 원가내역 총괄
A1: 국토교통 창업지원센터 시설공사 원가 내역
A3: 번호 | B3: 품명 | C3: 규격 | D3: SPEC. | E3: 단위 | F3: 수량 | G3: 재료비 | I3: 노무비 | K3: 합계 | M3: 비고
G4: 단가 | H4: 금액 | I4: 단가 | J4: 금액 | K4: 단가 | L4: 금액
A8: A. | B8: 인테리어공사 | E8: 식 | F8: 1 | H8: ='원가내역 세부사항'!H42 -> 33981000 | J8: ='원가내역 세부사항'!J42 -> 15631000 | L8: ='원가내역 세부사항'!L42 -> 49612000
B12: 직접공사비계 | H12: =SUM(H8:H11) -> 33981000 | J12: =SUM(J8:J11) -> 15631000 | L12: =SUM(L8:L11) -> 49612000
B14: 안전관리비 | C14: 총공사비계 * 0.0% | E14: % | F14: 0 | H14: =H$12*$F14% -> 0 | J14: =J$12*$F14% -> 0 | L14: =H14+J14 -> 0
B15: 산재보험료 | C15: 노무비계 * 0% | D15: 0 | E15: % | F15: 0 | J15: =J$12*$F15% -> 0 | L15: =H15+J15 -> 0
B16: 고용보험료 | C16: 노무비계 * 0% | E16: % | F16: 0 | J16: =J$12*$F16% -> 0 | L16: =H16+J16 -> 0
B17: 국민건강보험료 | C17: 노무비계 * 0% | E17: % | J17: =J$12*$F17% -> 0 | L17: =H17+J17 -> 0
B18: 국민연금보험료 | C18: 노무비계 * 0% | E18: % | J18: =J$12*$F18% -> 0 | L18: =H18+J18 -> 0
B19: 공과잡비 | C19: 총공사비계 *3% | D19: 0.03 | E19: % | F19: 3 | H19: =H$12*$F19% -> 1019430 | J19: =J$12*$F19% -> 468930 | L19: =H19+J19 -> 1488360
B20: 지방경비&야간경비 | C20: 노무비계 * 0% | D20: 0 | E20: % | F20: 0 | H20: =H$12*$F20% -> 0 | J20: =J$12*$F20% -> 0 | L20: =H20+J20 -> 0
B21: 회사이윤 | C21: 총공사비계 *3% | D21: 0.03 | E21: % | F21: 3 | H21: =H$12*$F21% -> 1019430 | J21: =J12*F21% -> 468930 | L21: =H21+J21 -> 1488360
B23: 간접공사비계 | L23: =SUM(L14:L22) -> 2976720
L24: -8720
B25: 공사비계 | L25: =L12+L23+L24 -> 52580000
A27: B. | B27: *. ETC WORK COST
B35: 총공사비계(A) | L35: =SUM(L25:L34) -> 52580000

Sheet 원가내역 세부사항
A1: ='원가내역 총괄'!B6 -> 0
A3: 번호 | B3: 품명 | C3: 규격 | D3: SPEC | E3: 단위 | F3: 수량 | G3: 재료비 | I3: 노무비 | K3: 합계 | M3: 비고
G4: 단가 | H4: 금액 | I4: 단가 | J4: 금액 | K4: 단가 | L4: 금액
A6: ='원가내역 총괄'!A8 -> A. | B6: ='원가내역 총괄'!B8 -> 인테리어공사
A7: 1-1. | B7: 가설공사 | E7: 식 | F7: 1 | H7: =H77 -> 1797500 | J7: =J77 -> 890000 | L7: =L77 -> 2687500
A8: 1-2. | B8: 벽체공사 / 목공사 | E8: 식 | F8: 1 | H8: =H113 -> 6575000 | J8: =J113 -> 5535000 | L8: =L113 -> 12110000
A9: 1-3. | B9: 수장공사 | E9: 식 | F9: 1 | H9: =H149 -> 10390000 | J9: =J149 -> 6178000 | L9: =L149 -> 16568000
A10: 1-4. | B10: 사인공사 | E10: 식 | F10: 1 | H10: =H185 -> 1350000 | J10: =J185 -> 600000 | L10: =L185 -> 1950000
A11: 1-5. | B11: 금속 유리공사 | E11: 식 | F11: 1 | H11: =H222 -> 13426000 | J11: =J222 -> 1543000 | L11: =L222 -> 14969000
A12: 1-6. | B12: 기타공사 / 준공청소 | E12: 식 | F12: 1 | H12: =H259 -> 442500 | J12: =J259 -> 885000 | L12: =L259 -> 1327500
B42: 소 계 | H42: =SUM(H7:H41) -> 33981000 | J42: =SUM(J7:J41) -> 15631000 | L42: =SUM(L7:L41) -> 49612000
A43: =A7 -> 1-1. | B43: =B7 -> 가설공사
A44: * | B44: 가설공사 | H44: =G44*F44 -> 0 | J44: =F44*I44 -> 0 | K44: =G44+I44 -> 0 | L44: =F44*K44 -> 0
B45: 현장정리정돈 | E45: M2 | F45: 295 | G45: 500 | H45: =G45*F45 -> 147500 | I45: 2000 | J45: =F45*I45 -> 590000 | K45: =G45+I45 -> 2500 | L45: =F45*K45 -> 737500 | M45: 면적
B46: 현장보양 | C46: 공사영향부분포함 | E46: 식 | F46: 1 | G46: 150000 | H46: =G46*F46 -> 150000 | I46: 300000 | J46: =F46*I46 -> 300000 | K46: =G46+I46 -> 450000 | L46: =F46*K46 -> 450000 | M46: 면적
B47: 폐자재처리 | C47: 공사후 | D47: 혼합폐기물 | E47: TON | F47: 2 | G47: 500000 | H47: =G47*F47 -> 1000000 | J47: =F47*I47 -> 0 | K47: =G47+I47 -> 500000 | L47: =F47*K47 -> 1000000
F48: 1 | G48: 500000 | H48: =G48*F48 -> 500000 | J48: =F48*I48 -> 0 | K48: =G48+I48 -> 500000 | L48: =F48*K48 -> 500000 | M48: 면적
H49: =G49*F49 -> 0 | J49: =F49*I49 -> 0 | K49: =G49+I49 -> 0 | L49: =F49*K49 -> 0
H50: =G50*F50 -> 0 | J50: =F50*I50 -> 0 | K50: =G50+I50 -> 0 | L50: =F50*K50 -> 0
H51: =G51*F51 -> 0 | J51: =F51*I51 -> 0 | K51: =G51+I51 -> 0 | L51: =F51*K51 -> 0
H52: =G52*F52 -> 0 | J52: =F52*I52 -> 0 | K52: =G52+I52 -> 0 | L52: =F52*K52 -> 0 | M52: 면적
H53: =G53*F53 -> 0 | J53: =F53*I53 -> 0 | K53: =G53+I53 -> 0 | L53: =F53*K53 -> 0 | M53: 면적
H54: =G54*F54 -> 0 | J54: =F54*I54 -> 0 | K54: =G54+I54 -> 0 | L54: =F54*K54 -> 0
H55: =G55*F55 -> 0 | J55: =F55*I55 -> 0 | K55: =G55+I55 -> 0 | L55: =F55*K55 -> 0
H56: =G56*F56 -> 0 | J56: =F56*I56 -> 0 | K56: =G56+I56 -> 0 | L56: =F56*K56 -> 0 | M56: 면적
H57: =G57*F57 -> 0 | J57: =F57*I57 -> 0 | K57: =G57+I57 -> 0 | L57: =F57*K57 -> 0
H58: =G58*F58 -> 0 | J58: =F58*I58 -> 0 | K58: =G58+I58 -> 0 | L58: =F58*K58 -> 0 | M58: 면적
H59: =G59*F59 -> 0 | J59: =F59*I59 -> 0 | K59: =G59+I59 -> 0 | L59: =F59*K59 -> 0 | M59: 면적
H60: =G60*F60 -> 0 | J60: =F60*I60 -> 0 | K60: =G60+I60 -> 0 | L60: =F60*K60 -> 0
H61: =G61*F61 -> 0 | J61: =F61*I61 -> 0 | K61: =G61+I61 -> 0 | L61: =F61*K61 -> 0 | M61: 면적
H62: =G62*F62 -> 0 | J62: =F62*I62 -> 0 | K62: =G62+I62 -> 0 | L62: =F62*K62 -> 0
H63: =G63*F63 -> 0 | J63: =F63*I63 -> 0 | K63: =G63+I63 -> 0 | L63: =F63*K63 -> 0
H64: =G64*F64 -> 0 | J64: =F64*I64 -> 0 | K64: =G64+I64 -> 0 | L64: =F64*K64 -> 0 | M64: 면적
H65: =G65*F65 -> 0 | J65: =F65*I65 -> 0 | K65: =G65+I65 -> 0 | L65: =F65*K65 -> 0 | M65: 면적
H66: =G66*F66 -> 0 | J66: =F66*I66 -> 0 | K66: =G66+I66 -> 0 | L66: =F66*K66 -> 0 | M66: 면적
H67: =G67*F67 -> 0 | J67: =F67*I67 -> 0 | K67: =G67+I67 -> 0 | L67: =F67*K67 -> 0
H68: =G68*F68 -> 0 | J68: =F68*I68 -> 0 | K68: =G68+I68 -> 0 | L68: =F68*K68 -> 0
H69: =G69*F69 -> 0 | J69: =F69*I69 -> 0 | K69: =G69+I69 -> 0 | L69: =F69*K69 -> 0
H70: =G70*F70 -> 0 | J70: =F70*I70 -> 0 | K70: =G70+I70 -> 0 | L70: =F70*K70 -> 0
H71: =G71*F71 -> 0 | J71: =F71*I71 -> 0 | K71: =G71+I71 -> 0 | L71: =F71*K71 -> 0
H72: =G72*F72 -> 0 | J72: =F72*I72 -> 0 | K72: =G72+I72 -> 0 | L72: =F72*K72 -> 0 | M72: 면적
H73: =G73*F73 -> 0 | J73: =F73*I73 -> 0 | K73: =G73+I73 -> 0 | L73: =F73*K73 -> 0
H74: =G74*F74 -> 0 | J74: =F74*I74 -> 0 | K74: =G74+I74 -> 0 | L74: =F74*K74 -> 0
H75: =G75*F75 -> 0 | J75: =F75*I75 -> 0 | K75: =G75+I75 -> 0 | L75: =F75*K75 -> 0
J76: =F76*I76 -> 0 | K76: =G76+I76 -> 0 | L76: =F76*K76 -> 0 | M76: 면적
B77: 소 계 | H77: =SUM(H43:H76) -> 1797500 | J77: =SUM(J43:J76) -> 890000 | L77: =SUM(L43:L76) -> 2687500
A78: =A8 -> 1-2. | B78: =B8 -> 벽체공사 / 목공사
A79: * | B79: 경량작업 | H79: =F79*G79 -> 0 | J79: =F79*I79 -> 0 | K79: =G79+I79 -> 0 | L79: =F79*K79 -> 0
B80: M-STUD 벽체조성 | C80: (H:2400) | E80: M2 | F80: 195 | G80: 8500 | H80: =F80*G80 -> 1657500 | I80: 10000 | J80: =F80*I80 -> 1950000 | K80: =G80+I80 -> 18500 | L80: =F80*K80 -> 3607500
B81: 석고보드 취부 | C81: 900*1800*9.5 | D81: 양면 2PLY | E81: M2 | F81: 195 | G81: 10000 | H81: =F81*G81 -> 1950000 | I81: 10000 | J81: =F81*I81 -> 1950000 | K81: =G81+I81 -> 20000 | L81: =F81*K81 -> 3900000
H82: =F82*G82 -> 0 | J82: =F82*I82 -> 0 | K82: =G82+I82 -> 0 | L82: =F82*K82 -> 0
H83: =F83*G83 -> 0 | J83: =F83*I83 -> 0 | K83: =G83+I83 -> 0 | L83: =F83*K83 -> 0
A84: * | B84: 목공작업 | H84: =F84*G84 -> 0 | J84: =F84*I84 -> 0 | K84: =G84+I84 -> 0 | L84: =F84*K84 -> 0
B85: 도어 및 도어 프레임 | C85: 900*2100 | E85: SET | F85: 7 | G85: 350000 | H85: =F85*G85 -> 2450000 | J85: =F85*I85 -> 0 | K85: =G85+I85 -> 350000 | L85: =F85*K85 -> 2450000
B86: 걸레받이 | D86: H:60 | E86: M | F86: 145 | G86: 1500 | H86: =F86*G86 -> 217500 | I86: 3000 | J86: =F86*I86 -> 435000 | K86: =G86+I86 -> 4500 | L86: =F86*K86 -> 652500
B87: 인건비 | E87: 명 | F87: 4 | H87: =F87*G87 -> 0 | I87: 300000 | J87: =F87*I87 -> 1200000 | K87: =G87+I87 -> 300000 | L87: =F87*K87 -> 1200000
B88: 공구대 | E88: 식 | F88: 1 | G88: 300000 | H88: =F88*G88 -> 300000 | J88: =F88*I88 -> 0 | K88: =G88+I88 -> 300000 | L88: =F88*K88 -> 300000
H89: =F89*G89 -> 0 | J89: =F89*I89 -> 0 | K89: =G89+I89 -> 0 | L89: =F89*K89 -> 0
H90: =F90*G90 -> 0 | J90: =F90*I90 -> 0 | K90: =G90+I90 -> 0 | L90: =F90*K90 -> 0
H91: =F91*G91 -> 0 | J91: =F91*I91 -> 0 | K91: =G91+I91 -> 0 | L91: =F91*K91 -> 0
H92: =F92*G92 -> 0 | J92: =F92*I92 -> 0 | K92: =G92+I92 -> 0 | L92: =F92*K92 -> 0
H93: =F93*G93 -> 0 | J93: =F93*I93 -> 0 | K93: =G93+I93 -> 0 | L93: =F93*K93 -> 0
H94: =F94*G94 -> 0 | J94: =F94*I94 -> 0 | K94: =G94+I94 -> 0 | L94: =F94*K94 -> 0
H95: =F95*G95 -> 0 | J95: =F95*I95 -> 0 | K95: =G95+I95 -> 0 | L95: =F95*K95 -> 0
H96: =F96*G96 -> 0 | J96: =F96*I96 -> 0 | K96: =G96+I96 -> 0 | L96: =F96*K96 -> 0
H97: =F97*G97 -> 0 | J97: =F97*I97 -> 0 | K97: =G97+I97 -> 0 | L97: =F97*K97 -> 0
H98: =F98*G98 -> 0 | J98: =F98*I98 -> 0 | K98: =G98+I98 -> 0 | L98: =F98*K98 -> 0
H99: =F99*G99 -> 0 | J99: =F99*I99 -> 0 | K99: =G99+I99 -> 0 | L99: =F99*K99 -> 0
H100: =F100*G100 -> 0 | J100: =F100*I100 -> 0 | K100: =G100+I100 -> 0 | L100: =F100*K100 -> 0
... H112: =F112*G112 -> 0 | J112: =F112*I112 -> 0 | K112: =G112+I112 -> 0 | L112: =F112*K112 -> 0
B113: 소 계 | H113: =SUM(H78:H112) -> 6575000 | J113: =SUM(J78:J112) -> 5535000 | L113: =SUM(L78:L112) -> 12110000
A114: =A9 -> 1-3. | B114: =B9 -> 수장공사
A115: * | B115: 인테리어 필름작업 | H115: =F115*G115 -> 0 | J115: =F115*I115 -> 0 | K115: =G115+I115 -> 0 | L115: =F115*K115 -> 0
B116: 도어및 도어프레임외 걸레받이 | C116: 방염 | E116: M2 | F116: 100 | G116: 20000 | H116: =F116*G116 -> 2000000 | I116: 12000 | J116: =F116*I116 -> 1200000 | K116: =G116+I116 -> 32000 | L116: =F116*K116 -> 3200000
H117: =F117*G117 -> 0 | J117: =F117*I117 -> 0 | K117: =G117+I117 -> 0 | L117: =F117*K117 -> 0
A118: * | B118: 도배작업 | H118: =F118*G118 -> 0 | J118: =F118*I118 -> 0 | K118: =G118+I118 -> 0 | L118: =F118*K118 -> 0
B119: 초배지 취부 | E119: M2 | F119: 390 | G119: 1000 | H119: =F119*G119 -> 390000 | I119: 1200 | J119: =F119*I119 -> 468000 | K119: =G119+I119 -> 2200 | L119: =F119*K119 -> 858000
B120: 실크방염벽지 | E120: M2 | F120: 390 | G120: 5000 | H120: =F120*G120 -> 1950000 | I120: 4000 | J120: =F120*I120 -> 1560000 | K120: =G120+I120 -> 9000 | L120: =F120*K120 -> 3510000
B121: 부자재 | E121: 식 | F121: 1 | G121: 150000 | H121: =F121*G121 -> 150000 | J121: =F121*I121 -> 0 | K121: =G121+I121 -> 150000 | L121: =F121*K121 -> 150000
H122: =F122*G122 -> 0 | J122: =F122*I122 -> 0 | K122: =G122+I122 -> 0 | L122: =F122*K122 -> 0
A123: * | B123: 카펫타일 | H123: =F123*G123 -> 0 | J123: =F123*I123 -> 0 | K123: =G123+I123 -> 0 | L123: =F123*K123 -> 0
B124: 카펫타일 | E124: M2 | F124: 295 | G124: 20000 | H124: =F124*G124 -> 5900000 | I124: 10000 | J124: =F124*I124 -> 2950000 | K124: =G124+I124 -> 30000 | L124: =F124*K124 -> 8850000
H125: =F125*G125 -> 0 | J125: =F125*I125 -> 0 | K125: =G125+I125 -> 0 | L125: =F125*K125 -> 0
H126: =F126*G126 -> 0 | J126: =F126*I126 -> 0 | K126: =G126+I126 -> 0 | L126: =F126*K126 -> 0
H127: =F127*G127 -> 0 | J127: =F127*I127 -> 0 | K127: =G127+I127 -> 0 | L127: =F127*K127 -> 0
H128: =F128*G128 -> 0 | J128: =F128*I128 -> 0 | K128: =G128+I128 -> 0 | L128: =F128*K128 -> 0
H129: =F129*G129 -> 0 | J129: =F129*I129 -> 0 | K129: =G129+I129 -> 0 | L129: =F129*K129 -> 0
H130: =F130*G130 -> 0 | J130: =F130*I130 -> 0 | K130: =G130+I130 -> 0 | L130: =F130*K130 -> 0
H131: =F131*G131 -> 0 | J131: =F131*I131 -> 0 | K131: =G131+I131 -> 0 | L131: =F131*K131 -> 0
H132: =F132*G132 -> 0 | J132: =F132*I132 -> 0 | K132: =G132+I132 -> 0 | L132: =F132*K132 -> 0
H133: =F133*G133 -> 0 | J133: =F133*I133 -> 0 | K133: =G133+I133 -> 0 | L133: =F133*K133 -> 0
H134: =F134*G134 -> 0 | J134: =F134*I134 -> 0 | K134: =G134+I134 -> 0 | L134: =F134*K134 -> 0
H135: =F135*G135 -> 0 | J135: =F135*I135 -> 0 | K135: =G135+I135 -> 0 | L135: =F135*K135 -> 0
H136: =F136*G136 -> 0 | J136: =F136*I136 -> 0 | K136: =G136+I136 -> 0 | L136: =F136*K136 -> 0
... H148: =F148*G148 -> 0 | J148: =F148*I148 -> 0 | K148: =G148+I148 -> 0 | L148: =F148*K148 -> 0
B149: 소 계 | H149: =SUM(H115:H148) -> 10390000 | J149: =SUM(J115:J148) -> 6178000 | L149: =SUM(L115:L148) -> 16568000
A150: =A10 -> 1-4. | B150: =B10 -> 사인공사
B151: 안개시트 | E151: M | F151: 20 | G151: 15000 | H151: =F151*G151 -> 300000 | J151: =F151*I151 -> 0 | K151: =G151+I151 -> 15000 | L151: =F151*K151 -> 300000
B152: 현판 | E152: 식 | F152: 1 | G152: 600000 | H152: =F152*G152 -> 600000 | J152: =F152*I152 -> 0 | K152: =G152+I152 -> 600000 | L152: =F152*K152 -> 600000
B153: 룸사인 | E153: EA | F153: 9 | G153: 50000 | H153: =F153*G153 -> 450000 | J153: =F153*I153 -> 0 | K153: =G153+I153 -> 50000 | L153: =F153*K153 -> 450000
...
